BEGIN:VCALENDAR
VERSION:2.0
PRODID:-//AMCHP - ECPv6.15.20//NONSGML v1.0//EN
CALSCALE:GREGORIAN
METHOD:PUBLISH
X-WR-CALNAME:AMCHP
X-ORIGINAL-URL:https://amchp.org
X-WR-CALDESC:Events for AMCHP
REFRESH-INTERVAL;VALUE=DURATION:PT1H
X-Robots-Tag:noindex
X-PUBLISHED-TTL:PT1H
BEGIN:VTIMEZONE
TZID:America/New_York
BEGIN:DAYLIGHT
TZOFFSETFROM:-0500
TZOFFSETTO:-0400
TZNAME:EDT
DTSTART:20210314T070000
END:DAYLIGHT
BEGIN:STANDARD
TZOFFSETFROM:-0400
TZOFFSETTO:-0500
TZNAME:EST
DTSTART:20211107T060000
END:STANDARD
BEGIN:DAYLIGHT
TZOFFSETFROM:-0500
TZOFFSETTO:-0400
TZNAME:EDT
DTSTART:20220313T070000
END:DAYLIGHT
BEGIN:STANDARD
TZOFFSETFROM:-0400
TZOFFSETTO:-0500
TZNAME:EST
DTSTART:20221106T060000
END:STANDARD
BEGIN:DAYLIGHT
TZOFFSETFROM:-0500
TZOFFSETTO:-0400
TZNAME:EDT
DTSTART:20230312T070000
END:DAYLIGHT
BEGIN:STANDARD
TZOFFSETFROM:-0400
TZOFFSETTO:-0500
TZNAME:EST
DTSTART:20231105T060000
END:STANDARD
BEGIN:DAYLIGHT
TZOFFSETFROM:-0500
TZOFFSETTO:-0400
TZNAME:EDT
DTSTART:20240310T070000
END:DAYLIGHT
BEGIN:STANDARD
TZOFFSETFROM:-0400
TZOFFSETTO:-0500
TZNAME:EST
DTSTART:20241103T060000
END:STANDARD
END:VTIMEZONE
BEGIN:VEVENT
DTSTART;TZID=America/New_York:20231128T150000
DTEND;TZID=America/New_York:20231128T160000
DTSTAMP:20260420T195527
CREATED:20230125T184635Z
LAST-MODIFIED:20230125T184635Z
UID:9896-1701183600-1701187200@amchp.org
SUMMARY:Who’s Guiding Your Choices: Centering Community in Evidence-Based Decision Making 
DESCRIPTION:AMCHP is excited to announce the launch of the Innovation Hub Learning Community (IHLC). The IHLC is the latest evolution of the programmatic support and learning opportunities offered through Innovation Hub and is an expansion of the previous Cutting-Edge Learning Community (CELC). Throughout the year\, AMCHP will be hosting four webinars on topics related to programmatic best practices that all MCH professionals and advocates are welcome to attend! \nThe IHLC webinar series will focus on skills and strategies that you can apply to your work to improve your organizational processes\, expand the scope and impact of your practice\, and plan for program sustainability. Our final meeting will help you evaluate the role of community members in your decision making and provide strategies to center people with lived experience in your program design\, implementation\, and evaluation.  \nLearn More & Register
URL:https://amchp.org/event/whos-guiding-your-choices-centering-community-in-evidence-based-decision-making/
CATEGORIES:Adolescent Health,Child Health,COVID-19,CYSHCN,Emergency Preparedness,Epidemiology & Evaluation,Equity & Antiracism,Family Engagement,Global Health,Innovation Hub,Maternal & Infant Health,Mental Health & SUD,Promoting Coverage for MCH,Telehealth,Title V,Vaccination,Workforce Development,Youth Engagement
ATTACH;FMTTYPE=image/jpeg:https://amchp.org/wp-content/uploads/2023/01/Little-Rock-FTM_2-scaled-1-e1674672367413.jpeg
END:VEVENT
BEGIN:VEVENT
DTSTART;TZID=America/New_York:20230824T150000
DTEND;TZID=America/New_York:20230824T160000
DTSTAMP:20260420T195527
CREATED:20230125T182922Z
LAST-MODIFIED:20230125T183014Z
UID:9894-1692889200-1692892800@amchp.org
SUMMARY:Expanding Your Impact: Preparing to Scale Up Your Practice
DESCRIPTION:AMCHP is excited to announce the launch of the Innovation Hub Learning Community (IHLC). The IHLC is the latest evolution of the programmatic support and learning opportunities offered through Innovation Hub and is an expansion of the previous Cutting-Edge Learning Community (CELC). Throughout the year\, AMCHP will be hosting four webinars on topics related to programmatic best practices that all MCH professionals and advocates are welcome to attend! \nThe IHLC webinar series will focus on skills and strategies that you can apply to your work to improve your organizational processes\, expand the scope and impact of your practice\, and plan for program sustainability. Our third webinar will provide resources and tools to scale up your practice and expand your program’s impact. \nLearn More & Register
URL:https://amchp.org/event/expanding-your-impact-preparing-to-scale-up-your-practice/
CATEGORIES:Adolescent Health,Child Health,COVID-19,CYSHCN,Emergency Preparedness,Epidemiology & Evaluation,Equity & Antiracism,Family Engagement,Global Health,Innovation Hub,Maternal & Infant Health,Mental Health & SUD,Promoting Coverage for MCH,Telehealth,Title V,Vaccination,Workforce Development,Youth Engagement
ATTACH;FMTTYPE=image/jpeg:https://amchp.org/wp-content/uploads/2023/01/setyaki-irham-tfdff8Poebw-unsplash-scaled-e1674671300406.jpg
END:VEVENT
BEGIN:VEVENT
DTSTART;TZID=America/New_York:20230523T150000
DTEND;TZID=America/New_York:20230523T160000
DTSTAMP:20260420T195527
CREATED:20230125T182134Z
LAST-MODIFIED:20230125T182931Z
UID:9892-1684854000-1684857600@amchp.org
SUMMARY:Starting from Your Strengths: Planning for Sustainability
DESCRIPTION:AMCHP is excited to announce the launch of the Innovation Hub Learning Community (IHLC). The IHLC is the latest evolution of the programmatic support and learning opportunities offered through Innovation Hub and is an expansion of the previous Cutting-Edge Learning Community (CELC). Throughout the year\, AMCHP will be hosting four webinars on topics related to programmatic best practices that all MCH professionals and advocates are welcome to attend! \nThe IHLC webinar series will focus on skills and strategies that you can apply to your work to improve your organizational processes\, expand the scope and impact of your practice\, and plan for program sustainability. Our second session will take an assets-based approach to  help you explore your program’s strengths and plan for a sustainable future. \nLearn More & Register
URL:https://amchp.org/event/starting-from-your-strengths-planning-for-sustainability/
CATEGORIES:Adolescent Health,AMCHP Conference,Child Health,COVID-19,CYSHCN,Emergency Preparedness,Epidemiology & Evaluation,Equity & Antiracism,Family Engagement,Global Health,Innovation Hub,Maternal & Infant Health,Mental Health & SUD,Promoting Coverage for MCH,Telehealth,Title V,Vaccination,Workforce Development,Youth Engagement
ATTACH;FMTTYPE=image/jpeg:https://amchp.org/wp-content/uploads/2023/01/markus-spiske-vrbZVyX2k4I-unsplash-scaled-e1674670858224.jpg
END:VEVENT
BEGIN:VEVENT
DTSTART;TZID=America/New_York:20230223T150000
DTEND;TZID=America/New_York:20230223T160000
DTSTAMP:20260420T195527
CREATED:20230125T181538Z
LAST-MODIFIED:20230125T182953Z
UID:9890-1677164400-1677168000@amchp.org
SUMMARY:Tracking Progress Towards Your Goals: Utilizing Key Performance Indicators
DESCRIPTION:AMCHP is excited to announce the launch of the Innovation Hub Learning Community (IHLC). The IHLC is the latest evolution of the programmatic support and learning opportunities offered through Innovation Hub and is an expansion of the previous Cutting-Edge Learning Community (CELC). Throughout the year\, AMCHP will be hosting four webinars on topics related to programmatic best practices that all MCH professionals and advocates are welcome to attend! \nThe IHLC webinar series will focus on skills and strategies that you can apply to your work to improve your organizational processes\, expand the scope and impact of your practice\, and plan for program sustainability. Our first event will help you learn more about how to utilize key performance indicators to assess success and track progress towards your programmatic goals. \nLearn More & Register
URL:https://amchp.org/event/tracking-progress-towards-your-goals-utilizing-key-performance-indicators/
CATEGORIES:Adolescent Health,Child Health,COVID-19,CYSHCN,Emergency Preparedness,Epidemiology & Evaluation,Equity & Antiracism,Family Engagement,Global Health,Innovation Hub,Maternal & Infant Health,Mental Health & SUD,Promoting Coverage for MCH,Telehealth,Title V,Vaccination,Workforce Development,Youth Engagement
ATTACH;FMTTYPE=image/jpeg:https://amchp.org/wp-content/uploads/2023/01/isaac-smith-6EnTPvPPL6I-unsplash-scaled-e1674670309487.jpg
END:VEVENT
BEGIN:VEVENT
DTSTART;TZID=America/New_York:20220707T133000
DTEND;TZID=America/New_York:20220707T143000
DTSTAMP:20260420T195527
CREATED:20220617T190303Z
LAST-MODIFIED:20220622T152021Z
UID:8037-1657200600-1657204200@amchp.org
SUMMARY:MCH Listening Session on Hunger\, Nutrition and Health
DESCRIPTION:Join us to share your thoughts\, ideas\, and suggestions to inform the Biden-Harris Administration’s National Strategy to address hunger\, nutrition\, and health. We encourage you to share this opportunity with your partners and the families that you serve. AMCHP and ASPHN staff will synthesize the input from this listening session to share with the White House for their consideration as they develop their strategy\, which will be announced in September 2022. \nRegister Now  \nMore information about the White House Conference of Hunger\, Nutrition\, and Health: https://health.gov/our-work/nutrition-physical-activity/white-house-conference-hunger-nutrition-and-health \n 
URL:https://amchp.org/event/mch-listening-session-on-hunger-nutrition-and-health/
LOCATION:Online
CATEGORIES:Adolescent Health,Child Health,CYSHCN,Emergency Preparedness,Equity & Antiracism,Maternal & Infant Health
ATTACH;FMTTYPE=image/png:https://amchp.org/wp-content/uploads/2022/06/WH-Listening-session-Twitter.png
END:VEVENT
BEGIN:VEVENT
DTSTART;TZID=America/New_York:20220302T070000
DTEND;TZID=America/New_York:20220302T080000
DTSTAMP:20260420T195527
CREATED:20220217T201205Z
LAST-MODIFIED:20220228T184047Z
UID:5792-1646204400-1646208000@amchp.org
SUMMARY:Unwinding the COVID-19 Public Health Emergency: Implications for Medicaid Coverage for MCH Populations
DESCRIPTION:Association of Maternal & Child Health Programs (AMCHP) and the Georgetown University Center for Children and Families (CCF) panel discussion on the expiration of the COVID-19 Medicaid continuous eligibility provision\, and opportunities for state advocates to protect Medicaid coverage gains for MCH populations. \nLearn More & Register
URL:https://amchp.org/event/unwinding-the-covid-19-public-health-emergency-implications-for-medicaid-coverage-for-mch-populations/
LOCATION:Webinar
CATEGORIES:COVID-19,Emergency Preparedness,Webinar
ATTACH;FMTTYPE=image/jpeg:https://amchp.org/wp-content/uploads/2022/02/Lunch-and-learn-e1645107106594.jpg
END:VEVENT
END:VCALENDAR