BEGIN:VCALENDAR
VERSION:2.0
PRODID:-//AMCHP - ECPv6.15.20//NONSGML v1.0//EN
CALSCALE:GREGORIAN
METHOD:PUBLISH
X-WR-CALNAME:AMCHP
X-ORIGINAL-URL:https://amchp.org
X-WR-CALDESC:Events for AMCHP
REFRESH-INTERVAL;VALUE=DURATION:PT1H
X-Robots-Tag:noindex
X-PUBLISHED-TTL:PT1H
BEGIN:VTIMEZONE
TZID:America/New_York
BEGIN:DAYLIGHT
TZOFFSETFROM:-0500
TZOFFSETTO:-0400
TZNAME:EDT
DTSTART:20240310T070000
END:DAYLIGHT
BEGIN:STANDARD
TZOFFSETFROM:-0400
TZOFFSETTO:-0500
TZNAME:EST
DTSTART:20241103T060000
END:STANDARD
BEGIN:DAYLIGHT
TZOFFSETFROM:-0500
TZOFFSETTO:-0400
TZNAME:EDT
DTSTART:20250309T070000
END:DAYLIGHT
BEGIN:STANDARD
TZOFFSETFROM:-0400
TZOFFSETTO:-0500
TZNAME:EST
DTSTART:20251102T060000
END:STANDARD
BEGIN:DAYLIGHT
TZOFFSETFROM:-0500
TZOFFSETTO:-0400
TZNAME:EDT
DTSTART:20260308T070000
END:DAYLIGHT
BEGIN:STANDARD
TZOFFSETFROM:-0400
TZOFFSETTO:-0500
TZNAME:EST
DTSTART:20261101T060000
END:STANDARD
END:VTIMEZONE
BEGIN:VEVENT
DTSTART;VALUE=DATE:20250919
DTEND;VALUE=DATE:20250920
DTSTAMP:20260424T122139
CREATED:20250821T221901Z
LAST-MODIFIED:20250821T221901Z
UID:57685-1758240000-1758326399@amchp.org
SUMMARY:Innovation Hub Fall Review Closes
DESCRIPTION:AMCHP invites you to submit your work to the MCH Innovations Database ahead of our Fall 2025 Review! This is your opportunity to showcase your practices\, policies\, or tools that are advancing maternal and child health (MCH) and strengthening communities.  \nDeadline for Fall 2025 Review: Submit by Friday\, September 19\, to be included in this review cycle. Submissions on or after September 20 will be rolled over to be considered in Spring 2026. All application materials\, including submission forms for each practice or policy designation\, are currently available on AMCHP’s Innovation Hub webpage. Check out this short overview video of the submission process to learn more.     \nDuring this review cycle\, we are excited to pilot a new Tool-specific submission track! This new form of submission is:   \n\nDesigned for innovations that don’t quite fit our standard practice or policy categories. \nSpotlights resources that eliminate obstacles to and promote community wellness among MCH populations. 
URL:https://amchp.org/event/innovation-hub-fall-review-closes/
LOCATION:Online
CATEGORIES:Innovation Hub
ATTACH;FMTTYPE=image/png:https://amchp.org/wp-content/uploads/2025/08/Horizontal-Featured-Image-27.png
END:VEVENT
END:VCALENDAR